BEGIN:VCALENDAR
VERSION:2.0
PRODID:icalendar-ruby
CALSCALE:GREGORIAN
BEGIN:VEVENT
DTSTAMP:20210119T040250Z
UID:c6127cdf-1c2e-4e50-bb0b-70d05d824efa
DTSTART;VALUE=DATE:20210128
DESCRIPTION:Property ID# 499031\, Locatoin: Ray White Wellington City Offic
 e\, Level 1 77 Thorndon Quay\, Time: 12:00PM
SUMMARY:Auction for 85 Ngaio Gorge Road
END:VEVENT
END:VCALENDAR
