BEGIN:VCALENDAR
VERSION:2.0
PRODID:icalendar-ruby
CALSCALE:GREGORIAN
BEGIN:VEVENT
DTSTAMP:20210119T040306Z
UID:8115db4a-5b92-4401-b6c6-dbfef8228752
DTSTART;TZID=Pacific/Auckland:20210117T110000
DTEND;TZID=Pacific/Auckland:20210117T113000
DESCRIPTION:Property ID# 499709
SUMMARY:Openhome for 88/70 Hobson Street
END:VEVENT
END:VCALENDAR
