BEGIN:VCALENDAR
VERSION:2.0
PRODID:icalendar-ruby
CALSCALE:GREGORIAN
BEGIN:VEVENT
DTSTAMP:20260425T201915Z
UID:173f66d0-ccd3-4753-85c5-a5022824da27
DTSTART;VALUE=DATE:20200305
DESCRIPTION:Property ID# 473977\, Locatoin: 1/77 Thorndon Quay\, Wellington
 \, Time: 1:00PM
SUMMARY:Auction for 
END:VEVENT
END:VCALENDAR
