BEGIN:VCALENDAR
VERSION:2.0
PRODID:icalendar-ruby
CALSCALE:GREGORIAN
BEGIN:VEVENT
DTSTAMP:20260419T192228Z
UID:1cd1683f-df6e-42e0-94ed-fd66f515b623
DTSTART;VALUE=DATE:20200612
DESCRIPTION:Property ID# 481092\, Locatoin: Harcourts Khandallah - 6 Dekka 
 Street\, Khandallah (if not sold prior)\, Time: 1:00PM
SUMMARY:Auction for 
END:VEVENT
END:VCALENDAR
