BEGIN:VCALENDAR
VERSION:2.0
PRODID:icalendar-ruby
CALSCALE:GREGORIAN
BEGIN:VEVENT
DTSTAMP:20260419T193336Z
UID:d32e2cc5-1c49-4741-96b3-d696aed68fcf
DTSTART;VALUE=DATE:20200918
DESCRIPTION:Property ID# 488345\, Locatoin: (No Prior Sale) Harcourts Aucti
 on Rooms\, 54-56 Cambridge Terrace\, Wellington\, Time: 12:00PM
SUMMARY:Auction for 
END:VEVENT
END:VCALENDAR
