BEGIN:VCALENDAR
VERSION:2.0
PRODID:icalendar-ruby
CALSCALE:GREGORIAN
BEGIN:VEVENT
DTSTAMP:20260422T131433Z
UID:6fca3368-c709-4620-8137-cfa7fc643c8d
DTSTART;VALUE=DATE:20201015
DESCRIPTION:Property ID# 491770\, Time: 12:30PM
SUMMARY:Auction for 
END:VEVENT
END:VCALENDAR
