BEGIN:VCALENDAR
VERSION:2.0
PRODID:icalendar-ruby
CALSCALE:GREGORIAN
BEGIN:VEVENT
DTSTAMP:20260422T131159Z
UID:175482b4-85c6-447e-aef3-6f5ff9ee2617
DTSTART;VALUE=DATE:20201022
DESCRIPTION:Property ID# 493196\, Time: 12:30PM
SUMMARY:Auction for 
END:VEVENT
END:VCALENDAR
