BEGIN:VCALENDAR
VERSION:2.0
PRODID:icalendar-ruby
CALSCALE:GREGORIAN
BEGIN:VEVENT
DTSTAMP:20260419T154303Z
UID:14653c41-1c08-4f96-b0c8-c7c854102e4f
DTSTART;VALUE=DATE:20201203
DESCRIPTION:Property ID# 494966\, Locatoin: (Not Selling Prior) Harcourts K
 handallah\, 6 Dekka Street\, Khandallah\, Time: 2:00PM
SUMMARY:Auction for 
END:VEVENT
END:VCALENDAR
