BEGIN:VCALENDAR
VERSION:2.0
PRODID:icalendar-ruby
CALSCALE:GREGORIAN
BEGIN:VEVENT
DTSTAMP:20260419T155251Z
UID:4624a9e4-acf9-4bbc-ad7f-9e849b37fbf7
DTSTART;VALUE=DATE:20201211
DESCRIPTION:Property ID# 496075\, Locatoin: (If Not Sold Prior) Harcourts A
 uction Rooms\, 54-56 Cambridge Terrace\, Wellington\, Time: 12:00PM
SUMMARY:Auction for 
END:VEVENT
END:VCALENDAR
