BEGIN:VCALENDAR
VERSION:2.0
PRODID:icalendar-ruby
CALSCALE:GREGORIAN
BEGIN:VEVENT
DTSTAMP:20260424T071037Z
UID:1f599ffd-f9ec-4880-a4b3-c8cc1da87dbd
DTSTART;VALUE=DATE:20210223
DESCRIPTION:Property ID# 501244\, Locatoin: WELLINGON\, Time: 12:00PM
SUMMARY:Auction for 
END:VEVENT
END:VCALENDAR
