BEGIN:VCALENDAR
VERSION:2.0
PRODID:icalendar-ruby
CALSCALE:GREGORIAN
BEGIN:VEVENT
DTSTAMP:20260419T155554Z
UID:45a76278-5ee0-45f0-85ff-221aa2e0bdc5
DTSTART;VALUE=DATE:20210312
DESCRIPTION:Property ID# 502023\, Locatoin: (Not Selling Prior) Harcourts A
 uction Rooms\, 54-56 Cambridge Terrace\, Wellington\, Time: 12:00PM
SUMMARY:Auction for 
END:VEVENT
END:VCALENDAR
