BEGIN:VCALENDAR
VERSION:2.0
PRODID:icalendar-ruby
CALSCALE:GREGORIAN
BEGIN:VEVENT
DTSTAMP:20260419T155437Z
UID:b4676cd6-b1c1-4ac5-aa31-29638cc7eaba
DTSTART;VALUE=DATE:20210423
DESCRIPTION:Property ID# 506774\, Time: 12:00PM
SUMMARY:Auction for 
END:VEVENT
END:VCALENDAR
