BEGIN:VCALENDAR
VERSION:2.0
PRODID:icalendar-ruby
CALSCALE:GREGORIAN
BEGIN:VEVENT
DTSTAMP:20260424T071038Z
UID:ea753a16-e039-4349-9a0f-e297c4583f4b
DTSTART;VALUE=DATE:20210525
DESCRIPTION:Property ID# 509287\, Locatoin: WELLINGTON\, Time: 12:00PM
SUMMARY:Auction for 
END:VEVENT
END:VCALENDAR
