BEGIN:VCALENDAR
VERSION:2.0
PRODID:icalendar-ruby
CALSCALE:GREGORIAN
BEGIN:VEVENT
DTSTAMP:20260424T065634Z
UID:35078614-8e08-4a28-b6de-3c394b7698e3
DTSTART;VALUE=DATE:20210629
DESCRIPTION:Property ID# 511658\, Locatoin: WELLINGTON\, Time: 12:00PM
SUMMARY:Auction for 
END:VEVENT
END:VCALENDAR
