BEGIN:VCALENDAR
VERSION:2.0
PRODID:icalendar-ruby
CALSCALE:GREGORIAN
BEGIN:VEVENT
DTSTAMP:20260424T070416Z
UID:8db908a8-c32c-4dd7-b6d9-4c82cc0393bb
DTSTART;VALUE=DATE:20210824
DESCRIPTION:Property ID# 514970\, Locatoin: WELLINGTON\, Time: 12:00PM
SUMMARY:Auction for 
END:VEVENT
END:VCALENDAR
