BEGIN:VCALENDAR
VERSION:2.0
PRODID:icalendar-ruby
CALSCALE:GREGORIAN
BEGIN:VEVENT
DTSTAMP:20260419T155053Z
UID:8d08e219-49e6-4157-93c3-11e02b115aa7
DTSTART;VALUE=DATE:20211001
DESCRIPTION:Property ID# 517025\, Locatoin: Friday\, 12noon. Harcourts Auct
 ion Rooms 54-56 Cambridge Terrace. Te Aro\, Time: 12:00PM
SUMMARY:Auction for 
END:VEVENT
END:VCALENDAR
