BEGIN:VCALENDAR
VERSION:2.0
PRODID:icalendar-ruby
CALSCALE:GREGORIAN
BEGIN:VEVENT
DTSTAMP:20260424T033251Z
UID:07e76df8-5d61-45a4-ba3c-5cd136480ff0
DTSTART;VALUE=DATE:20211019
DESCRIPTION:Property ID# 517966\, Locatoin: WELLINGTON\, Time: 12:00PM
SUMMARY:Auction for 
END:VEVENT
END:VCALENDAR
