BEGIN:VCALENDAR
VERSION:2.0
PRODID:icalendar-ruby
CALSCALE:GREGORIAN
BEGIN:VEVENT
DTSTAMP:20260424T070805Z
UID:c0c6a0a0-34e9-4557-9534-a35a01d86131
DTSTART;VALUE=DATE:20211027
DESCRIPTION:Property ID# 518862\, Locatoin: WELLINGTON\, Time: 12:00PM
SUMMARY:Auction for 
END:VEVENT
END:VCALENDAR
