BEGIN:VCALENDAR
VERSION:2.0
PRODID:icalendar-ruby
CALSCALE:GREGORIAN
BEGIN:VEVENT
DTSTAMP:20260419T194934Z
UID:ae6e423b-af42-4b80-9cd3-7f40adf9886a
DTSTART;VALUE=DATE:20220304
DESCRIPTION:Property ID# 528084\, Locatoin: Friday 12 Noon\, Harcourts Auct
 ion Rooms 54-56 Cambridge Terrace. Te Aro (Unless Sold Prior)\, Time: 12:0
 0PM
SUMMARY:Auction for 
END:VEVENT
END:VCALENDAR
