BEGIN:VCALENDAR
VERSION:2.0
PRODID:icalendar-ruby
CALSCALE:GREGORIAN
BEGIN:VEVENT
DTSTAMP:20260424T070016Z
UID:3a3769dc-a78b-49d4-bbd9-9b65a543a9fc
DTSTART;VALUE=DATE:20220412
DESCRIPTION:Property ID# 532425\, Locatoin: WELLINGTON\, Time: 12:00PM
SUMMARY:Auction for 
END:VEVENT
END:VCALENDAR
