BEGIN:VCALENDAR
VERSION:2.0
PRODID:icalendar-ruby
CALSCALE:GREGORIAN
BEGIN:VEVENT
DTSTAMP:20260424T070727Z
UID:74d97bbb-21ba-4d8b-8139-46996b0babac
DTSTART;VALUE=DATE:20230214
DESCRIPTION:Property ID# 550449\, Locatoin: WELLINGTON\, Time: 12:00PM
SUMMARY:Auction for 
END:VEVENT
END:VCALENDAR
