BEGIN:VCALENDAR
VERSION:2.0
PRODID:icalendar-ruby
CALSCALE:GREGORIAN
BEGIN:VEVENT
DTSTAMP:20260424T070815Z
UID:0c0e97b9-bc93-4c54-bfdd-83b3abe9d1d4
DTSTART;VALUE=DATE:20240220
DESCRIPTION:Property ID# 569452\, Time: 12:00PM
SUMMARY:Auction for 
END:VEVENT
END:VCALENDAR
