BEGIN:VCALENDAR
VERSION:2.0
PRODID:icalendar-ruby
CALSCALE:GREGORIAN
BEGIN:VEVENT
DTSTAMP:20260424T070930Z
UID:ca37671d-a1a4-435c-aa9c-2f457c92ded8
DTSTART;VALUE=DATE:20240305
DESCRIPTION:Property ID# 569957\, Locatoin: WELLINGTON\, Time: 12:00PM
SUMMARY:Auction for 
END:VEVENT
END:VCALENDAR
