BEGIN:VCALENDAR
VERSION:2.0
PRODID:icalendar-ruby
CALSCALE:GREGORIAN
BEGIN:VEVENT
DTSTAMP:20260424T071037Z
UID:06959e66-97e0-43f6-bf10-8f47e6aeebf4
DTSTART;VALUE=DATE:20240313
DESCRIPTION:Property ID# 570397\, Locatoin: In Rooms \, Time: 1:00PM
SUMMARY:Auction for 
END:VEVENT
END:VCALENDAR
