BEGIN:VCALENDAR
VERSION:2.0
PRODID:icalendar-ruby
CALSCALE:GREGORIAN
BEGIN:VEVENT
DTSTAMP:20260423T092301Z
UID:c557d136-b162-4aa3-ac83-8503ecd02955
DTSTART;VALUE=DATE:20240307
DESCRIPTION:Property ID# 570799\, Locatoin: 1/77 Thorndon Quay\, Thorndon. 
 \, Time: 2:00PM
SUMMARY:Auction for 
END:VEVENT
END:VCALENDAR
