BEGIN:VCALENDAR
VERSION:2.0
PRODID:icalendar-ruby
CALSCALE:GREGORIAN
BEGIN:VEVENT
DTSTAMP:20260424T212903Z
UID:4210bcf1-95b6-4885-b80e-6a5a5d5b3d62
DTSTART;VALUE=DATE:20240606
DESCRIPTION:Property ID# 575930\, Locatoin: 8 Kent Terrace\, Wellington\, T
 ime: 1:00AM
SUMMARY:Auction for 
END:VEVENT
END:VCALENDAR
