BEGIN:VCALENDAR
VERSION:2.0
PRODID:icalendar-ruby
CALSCALE:GREGORIAN
BEGIN:VEVENT
DTSTAMP:20260420T092402Z
UID:4db3cedc-f58a-4292-a341-9e920faf4b42
DTSTART;VALUE=DATE:20250306
DESCRIPTION:Property ID# 588199\, Locatoin: 2/153 Karori Road\, Wellington\
 , Time: 12:00PM
SUMMARY:Auction for 
END:VEVENT
END:VCALENDAR
