BEGIN:VCALENDAR
VERSION:2.0
PRODID:icalendar-ruby
CALSCALE:GREGORIAN
BEGIN:VEVENT
DTSTAMP:20260422T092601Z
UID:4488baba-f78f-4bf8-b65e-e58dc57596e8
DTSTART;VALUE=DATE:20250403
DESCRIPTION:Property ID# 589554\, Locatoin: 1/77 Thorndon Quay\, Wellington
 \, Time: 12:00PM
SUMMARY:Auction for 
END:VEVENT
END:VCALENDAR
