BEGIN:VCALENDAR
VERSION:2.0
PRODID:icalendar-ruby
CALSCALE:GREGORIAN
BEGIN:VEVENT
DTSTAMP:20260420T092606Z
UID:2236f98f-f15a-42c3-a93f-2edd20ae898e
DTSTART;VALUE=DATE:20250411
DESCRIPTION:Property ID# 590538\, Locatoin: 2/153 Karori Road\, Wellington\
 , Time: 12:00PM
SUMMARY:Auction for 
END:VEVENT
END:VCALENDAR
