BEGIN:VCALENDAR
VERSION:2.0
PRODID:icalendar-ruby
CALSCALE:GREGORIAN
BEGIN:VEVENT
DTSTAMP:20260424T091600Z
UID:c5cb3a86-612e-4353-bb03-aae5453db581
DTSTART;VALUE=DATE:20250629
DESCRIPTION:Property ID# 593891\, Locatoin: 8 Kent Terrace\, Wellington\, T
 ime: 3:00PM
SUMMARY:Auction for 
END:VEVENT
END:VCALENDAR
