BEGIN:VCALENDAR
VERSION:2.0
PRODID:icalendar-ruby
CALSCALE:GREGORIAN
BEGIN:VEVENT
DTSTAMP:20260420T075230Z
UID:b6ca06fc-df9a-41bf-b486-c447472444ee
DTSTART;VALUE=DATE:20250903
DESCRIPTION:Property ID# 596228\, Locatoin: Harcourts Wellington City Offic
 e (unless sold prior)\, Time: 12:00PM
SUMMARY:Auction for 
END:VEVENT
END:VCALENDAR
