BEGIN:VCALENDAR
VERSION:2.0
PRODID:icalendar-ruby
CALSCALE:GREGORIAN
BEGIN:VEVENT
DTSTAMP:20260420T072122Z
UID:fcdad6ca-0390-4501-a2fc-2d68c751651e
DTSTART;VALUE=DATE:20251114
DESCRIPTION:Property ID# 599645\, Locatoin: Harcourts Wellington City Offic
 e (unless brought forward)\, Time: 12:00PM
SUMMARY:Auction for 
END:VEVENT
END:VCALENDAR
