BEGIN:VCALENDAR
VERSION:2.0
PRODID:icalendar-ruby
CALSCALE:GREGORIAN
BEGIN:VEVENT
DTSTAMP:20260420T071451Z
UID:3e0af3ec-5992-4418-9df3-ab5341a1ceb4
DTSTART;VALUE=DATE:20260508
DESCRIPTION:Property ID# 606844\, Locatoin: Harcourts\, 59 Vivian Street\, 
 Te Aro\, Wellington\, Time: 12:00PM
SUMMARY:Auction for 3G/21 Rugby Street
END:VEVENT
END:VCALENDAR
