BEGIN:VCALENDAR
VERSION:2.0
PRODID:icalendar-ruby
CALSCALE:GREGORIAN
BEGIN:VEVENT
DTSTAMP:20260425T131616Z
UID:a856af62-99a6-4b8e-92e4-7ebd0b79412c
DTSTART;VALUE=DATE:20260507
DESCRIPTION:Property ID# 606961\, Locatoin: Level 1\, 77 Thorndon Quay\, Th
 orndon\, Time: 2:00PM
SUMMARY:Auction for 2A Downing Street
END:VEVENT
END:VCALENDAR
