BEGIN:VCALENDAR
VERSION:2.0
PRODID:icalendar-ruby
CALSCALE:GREGORIAN
BEGIN:VEVENT
DTSTAMP:20260420T034856Z
UID:300d7dd3-22f4-4627-8bc5-38bb08ed4086
DTSTART;TZID=Pacific/Auckland:20260418T123000
DTEND;TZID=Pacific/Auckland:20260418T130000
DESCRIPTION:Property ID# 606067
SUMMARY:Openhome for 1B/20 Oriental Terrace
END:VEVENT
END:VCALENDAR
